BEGIN:VCALENDAR
VERSION:2.0
PRODID:-//Tukios.com/
BEGIN:VEVENT
UID:8f34fe64-a935-470b-8f5a-9ee648bebd7f@www.peshekfamilyfuneralhome.com
DTSTAMP:20260421T024433Z
DTSTART:20260430T140000Z
DTEND:20260430T150000Z
SUMMARY:Funeral Service
DESCRIPTION:
URL:https://www.peshekfamilyfuneralhome.com/obituaries/kenneth-heilig
LOCATION:St. Mary Catholic Church 7066 Main Street  Port Sanilac MI 48469
GEO:43.4305253;-82.5498382
END:VEVENT
END:VCALENDAR