BEGIN:VCALENDAR
VERSION:2.0
PRODID:-//Tukios.com/
BEGIN:VEVENT
UID:43aeb7d3-3d2d-4c45-947a-190df1bc76d0@www.peshekfamilyfuneralhome.com
DTSTAMP:20260421T231853Z
DTSTART:20260423T200000Z
DTEND:20260424T000000Z
SUMMARY:Visitation
DESCRIPTION:
URL:https://www.peshekfamilyfuneralhome.com/obituaries/robert-lautner
LOCATION: 3467 Main St  Deckerville MI 48427
GEO:43.5258158;-82.7353055
END:VEVENT
END:VCALENDAR