BEGIN:VCALENDAR
VERSION:2.0
PRODID:-//Tukios.com/
BEGIN:VEVENT
UID:b14f358f-9356-42b9-9bde-8af213ea4a53@www.peshekfamilyfuneralhome.com
DTSTAMP:20260421T232038Z
DTSTART:20260423T230000Z
DTEND:20260424T000000Z
SUMMARY:Prayer Service
DESCRIPTION:
URL:https://www.peshekfamilyfuneralhome.com/obituaries/robert-lautner
LOCATION:Peshek Family Funeral Home - Apsey Chapel 3467 Main St  
	Deckerville MI 48427
GEO:43.5258158;-82.7353055
END:VEVENT
END:VCALENDAR