BEGIN:VCALENDAR
VERSION:2.0
PRODID:-//Tukios.com/
BEGIN:VEVENT
UID:7f24632a-77d9-41d7-b032-f0f3450a46d4@www.peshekfamilyfuneralhome.com
DTSTAMP:20260421T231431Z
DTSTART:20260424T150000Z
DTEND:20260424T160000Z
SUMMARY:Funeral Service
DESCRIPTION:
URL:https://www.peshekfamilyfuneralhome.com/obituaries/robert-lautner
LOCATION: 1801 Palms Rd  Palms MI 48465
GEO:43.6142435;-82.7650104
END:VEVENT
END:VCALENDAR